BEGIN:VCALENDAR
VERSION:2.0
PRODID:-//ChamberMaster//Event Calendar 2.0//EN
METHOD:PUBLISH
X-PUBLISHED-TTL:P3D
REFRESH-INTERVAL:P3D
CALSCALE:GREGORIAN
BEGIN:VEVENT
DTSTART:20200214T170000Z
DTEND:20200214T190000Z
X-MICROSOFT-CDO-ALLDAYEVENT:FALSE
SUMMARY:ERMC Fundraiser Luncheon
DESCRIPTION:ERMC Fundraiser Luncheon
X-ALT-DESC;FMTTYPE=text/html:ERMC Fundraiser Luncheon
LOCATION:Ennis Regional Medical Center 2201 W. Lampasas St Ennis\, TX 75119
UID:e.2608.3249
SEQUENCE:3
DTSTAMP:20260423T114204Z
URL:https://business.ennis-chamber.com/events/details/ermc-fundraiser-luncheon-3249
END:VEVENT

END:VCALENDAR
