BEGIN:VCALENDAR
VERSION:2.0
PRODID:-//ChamberMaster//Event Calendar 2.0//EN
METHOD:PUBLISH
X-PUBLISHED-TTL:P3D
REFRESH-INTERVAL:P3D
CALSCALE:GREGORIAN
BEGIN:VEVENT
DTSTART:20191220T170000Z
DTEND:20191220T190000Z
X-MICROSOFT-CDO-ALLDAYEVENT:FALSE
SUMMARY:Ennis State Bank - Pictures with Santa
DESCRIPTION:
X-ALT-DESC;FMTTYPE=text/html:
LOCATION:
UID:e.2608.3228
SEQUENCE:3
DTSTAMP:20260423T173239Z
URL:https://business.ennis-chamber.com/events/details/ennis-state-bank-pictures-with-santa-3228
END:VEVENT

END:VCALENDAR
