BEGIN:VCALENDAR
VERSION:2.0
PRODID:-//ChamberMaster//Event Calendar 2.0//EN
METHOD:PUBLISH
X-PUBLISHED-TTL:P3D
REFRESH-INTERVAL:P3D
CALSCALE:GREGORIAN
BEGIN:VEVENT
DTSTART:20170505T170000Z
DTEND:20170505T180000Z
X-MICROSOFT-CDO-ALLDAYEVENT:FALSE
SUMMARY:Ennis H-E-B Grand Slam Sandwich Judging Contest
DESCRIPTION:You're Invited!\n\n"Ultimate Sandwich of Ennis" Judging Contest\n\nCome join us to determine the BEST SANDWICH of Ennis H-E-B! \n\nJudges Include: Ennis Mayor Angie Juenemann\, City Manager Scott Dixon\, Ennis Chamber of Commerce President Jeannette Patak\, Fire Marshal Chad Wester & Ennis CVB Director Gina Rokas
X-ALT-DESC;FMTTYPE=text/html:<div style="text-align: center\;"><big><strong><span style="font-size:40pt"><span style="font-family:century gothic\,sans-serif">You&rsquo\;re Invited!</span></span></strong><br />\n<span style="font-size:30pt"><span style="font-family:century gothic\,sans-serif">&ldquo\;Ultimate Sandwich of Ennis&rdquo\; Judging Contest</span></span></big><br />\n<span style="color:rgb(0\, 0\, 0)"><strong><span style="font-size:medium"><span style="font-family:cambria">Come join us to determine the BEST SANDWICH of Ennis H-E-B!</span></span></strong>&nbsp\;<br />\n<strong><span style="font-size:11pt"><span style="font-family:century gothic\,sans-serif">Judges Include: Ennis Mayor Angie Juenemann\, City Manager Scott Dixon\, Ennis Chamber of Commerce President Jeannette Patak\, Fire Marshal&nbsp\;Chad Wester &amp\; Ennis CVB Director Gina Rokas</span></span></strong></span><br />\n<br />\n&nbsp\;</div>\n
LOCATION:
UID:e.2608.288
SEQUENCE:3
DTSTAMP:20260426T041542Z
URL:https://business.ennis-chamber.com/events/details/ennis-h-e-b-grand-slam-sandwich-judging-contest-288
END:VEVENT

END:VCALENDAR
