BEGIN:VCALENDAR
VERSION:2.0
PRODID:-//ChamberMaster//Event Calendar 2.0//EN
METHOD:PUBLISH
X-PUBLISHED-TTL:P3D
REFRESH-INTERVAL:P3D
CALSCALE:GREGORIAN
BEGIN:VEVENT
DTSTART;VALUE=DATE:20190517
DTEND;VALUE=DATE:20190518
TRANSP:TRANSPARENT
X-MICROSOFT-CDO-ALLDAYEVENT:TRUE
SUMMARY:Ennis Golden Circle Annual Charity Golf Scramble
DESCRIPTION:Ennis Golden Circle Annual Charity Golf Scramble
X-ALT-DESC;FMTTYPE=text/html:Ennis Golden Circle Annual Charity Golf Scramble&nbsp\;
LOCATION:Old Brickyard Golf Course Ferris\, TX
UID:e.2608.2918
SEQUENCE:3
DTSTAMP:20260424T053054Z
URL:https://business.ennis-chamber.com/events/details/ennis-golden-circle-annual-charity-golf-scramble-2918
END:VEVENT

END:VCALENDAR
