BEGIN:VCALENDAR
VERSION:2.0
PRODID:-//ChamberMaster//Event Calendar 2.0//EN
METHOD:PUBLISH
X-PUBLISHED-TTL:P3D
REFRESH-INTERVAL:P3D
CALSCALE:GREGORIAN
BEGIN:VEVENT
DTSTART:20180630T130000Z
DTEND:20180701T030000Z
X-MICROSOFT-CDO-ALLDAYEVENT:FALSE
SUMMARY:Ennis Freedom Fest
DESCRIPTION:Save the date for the best small-town\, patriotic experience in Texas! Deck out your bike\, scooter\, wagon etc. and join us for the Red White and Bike Parade through downtown Ennis and historic tree-lined neighborhoods. Judging for most patriotic\, best family and best under 6 will begin at 9:30am and the parade will begin at 10am. Enjoy lunch and do some shopping at the downtown farmers market then get ready to head over to the Texas Motorplex in the evening for a spectacular fireworks display. Tell everyone you know that if they want a true 4th of July experience this event is the most charming display of patriotism and community pride you will ever see! \n\n\n\n8:00am-1:00pm Ennis Farmers Market in Downtown Ennis\n\n9:00am Line Up for Judging and Parade at North Plaza Parking Lot\n\n9:30am Judging begins\n\n10:00am Red White and Bike Parade Begins at North Plaza Parking Lot\n\n11:00am Award Ceremony and Raffle Drawing\n\n5:00pm FREE ADMISSION-Gates open at the Texas Motorplex-Live music featuring the Studebakers\, food and free kids activities\n\nDark Spectacular Firework Show at the Texas Motorplex
X-ALT-DESC;FMTTYPE=text/html:<span style="color: rgb(29\, 33\, 41)\; font-family: Helvetica\, Arial\, sans-serif\; font-size: 14px\;">Save the date for the best small-town\, patriotic experience in Texas! Deck out your bike\, scooter\, wagon etc. and join us for the Red White and Bike Parade through downtown Ennis and historic tree-lined neighborhoods. Judging for most patriotic\, best family and best under 6 will begin at 9:30am and the parade will begin at 10am. Enjoy lunch and do some shopping at the downtown farmers market then get ready to head over to the Texas Motorplex in the evening for a spectacular fireworks display. Tell everyone you know that if they want a true 4th of July experience this event is the most charming display of patriotism and community pride you will ever see!&nbsp\;</span><br style="color: rgb(29\, 33\, 41)\; font-family: Helvetica\, Arial\, sans-serif\; font-size: 14px\;" />\n<br style="color: rgb(29\, 33\, 41)\; font-family: Helvetica\, Arial\, sans-serif\; font-size: 14px\;" />\n<span style="color: rgb(29\, 33\, 41)\; font-family: Helvetica\, Arial\, sans-serif\; font-size: 14px\;">8:00am-1:00pm Ennis Farmers Market in Downtown Ennis</span><br style="color: rgb(29\, 33\, 41)\; font-family: Helvetica\, Arial\, sans-serif\; font-size: 14px\;" />\n<span style="color: rgb(29\, 33\, 41)\; font-family: Helvetica\, Arial\, sans-serif\; font-size: 14px\;">9:00am Line Up for Judging and Parade at North Plaza Parking Lot</span><br style="color: rgb(29\, 33\, 41)\; font-family: Helvetica\, Arial\, sans-serif\; font-size: 14px\;" />\n<span style="color: rgb(29\, 33\, 41)\; font-family: Helvetica\, Arial\, sans-serif\; font-size: 14px\;">9:30am Judging begins</span><br style="color: rgb(29\, 33\, 41)\; font-family: Helvetica\, Arial\, sans-serif\; font-size: 14px\;" />\n<span style="color: rgb(29\, 33\, 41)\; font-family: Helvetica\, Arial\, sans-serif\; font-size: 14px\;">10:00am Red White and Bike Parade Begins at North Plaza Parking Lot</span><br style="color: rgb(29\, 33\, 41)\; font-family: Helvetica\, Arial\, sans-serif\; font-size: 14px\;" />\n<span style="color: rgb(29\, 33\, 41)\; font-family: Helvetica\, Arial\, sans-serif\; font-size: 14px\;">11:00am Award Ceremony and Raffle Drawing</span><br style="color: rgb(29\, 33\, 41)\; font-family: Helvetica\, Arial\, sans-serif\; font-size: 14px\;" />\n<span style="color: rgb(29\, 33\, 41)\; font-family: Helvetica\, Arial\, sans-serif\; font-size: 14px\;">5:00pm FREE ADMISSION-Gates open at the Texas Motorplex-Live music featuring the Studebakers\, food and free kids activities</span><br style="color: rgb(29\, 33\, 41)\; font-family: Helvetica\, Arial\, sans-serif\; font-size: 14px\;" />\n<span style="color: rgb(29\, 33\, 41)\; font-family: Helvetica\, Arial\, sans-serif\; font-size: 14px\;">Dark Spectacular Firework Show at the Texas Motorplex</span>
LOCATION:
UID:e.2608.2832
SEQUENCE:3
DTSTAMP:20260425T043251Z
URL:https://business.ennis-chamber.com/events/details/ennis-freedom-fest-2832
END:VEVENT

END:VCALENDAR
