BEGIN:VCALENDAR
VERSION:2.0
PRODID:-//ChamberMaster//Event Calendar 2.0//EN
METHOD:PUBLISH
X-PUBLISHED-TTL:P3D
REFRESH-INTERVAL:P3D
CALSCALE:GREGORIAN
BEGIN:VEVENT
DTSTART:20170805T000000Z
DTEND:20170805T040000Z
X-MICROSOFT-CDO-ALLDAYEVENT:FALSE
SUMMARY:Ennis Czech Boys @ Sokol
DESCRIPTION:Dance in the Clubroom. No cover. Doors open at 5 PM. Bring a Snack if you like!
X-ALT-DESC;FMTTYPE=text/html:Dance in the Clubroom. No cover. Doors open at 5 PM. Bring a Snack if you like!
LOCATION:Sokol 2622 E Highway 34 Ennis\, TX 75119
UID:e.2608.563
SEQUENCE:3
DTSTAMP:20260425T210351Z
URL:https://business.ennis-chamber.com/events/details/ennis-czech-boys-sokol-563
END:VEVENT

END:VCALENDAR
