BEGIN:VCALENDAR
VERSION:2.0
PRODID:-//ChamberMaster//Event Calendar 2.0//EN
METHOD:PUBLISH
X-PUBLISHED-TTL:P3D
REFRESH-INTERVAL:P3D
CALSCALE:GREGORIAN
BEGIN:VEVENT
DTSTART:20190815T163000Z
DTEND:20190815T180000Z
X-MICROSOFT-CDO-ALLDAYEVENT:FALSE
SUMMARY:Ennis Chamber S.W.A.P. Networking
DESCRIPTION:S.W.A.P. Networking \n\nSpot Light Hosts:\n\nChick fil a & Copy Ship Resources
X-ALT-DESC;FMTTYPE=text/html:S.W.A.P. Networking&nbsp\;<br />\nSpot Light Hosts:<br />\nChick fil a &amp\; Copy Ship Resources
LOCATION:Ennis Chamber of Commerce 108 Chamber of Commerce Dr. Ennis\, TX 75119
UID:e.2608.2942
SEQUENCE:3
DTSTAMP:20260423T224923Z
URL:https://business.ennis-chamber.com/events/details/ennis-chamber-s-w-a-p-networking-2942
END:VEVENT

END:VCALENDAR
