BEGIN:VCALENDAR
VERSION:2.0
PRODID:-//ChamberMaster//Event Calendar 2.0//EN
METHOD:PUBLISH
X-PUBLISHED-TTL:P3D
REFRESH-INTERVAL:P3D
CALSCALE:GREGORIAN
BEGIN:VEVENT
DTSTART:20190718T130000Z
DTEND:20190718T140000Z
X-MICROSOFT-CDO-ALLDAYEVENT:FALSE
SUMMARY:Ennis Chamber S.W.A.P. Networking
DESCRIPTION:Ennis Chamber S.W.A.P. Networking \n\nBreakfast is provided by Spot Light Host:\n\nThe Waxahachie Sun/Ellis Downhome
X-ALT-DESC;FMTTYPE=text/html:Ennis Chamber S.W.A.P. Networking&nbsp\;<br />\nBreakfast is provided by Spot Light Host:<br />\nThe Waxahachie Sun/Ellis Downhome
LOCATION:Ennis Chamber of Commerce 108 Chamber of Commerce Dr Ennis\, TX 75119
UID:e.2608.2933
SEQUENCE:3
DTSTAMP:20260424T030050Z
URL:https://business.ennis-chamber.com/events/details/ennis-chamber-s-w-a-p-networking-2933
END:VEVENT

END:VCALENDAR
