BEGIN:VCALENDAR
VERSION:2.0
PRODID:-//ChamberMaster//Event Calendar 2.0//EN
METHOD:PUBLISH
X-PUBLISHED-TTL:P3D
REFRESH-INTERVAL:P3D
CALSCALE:GREGORIAN
BEGIN:VEVENT
DTSTART:20191205T173000Z
DTEND:20191205T190000Z
X-MICROSOFT-CDO-ALLDAYEVENT:FALSE
SUMMARY:Ennis Chamber S.W.A.P. Networking
DESCRIPTION:
X-ALT-DESC;FMTTYPE=text/html:
LOCATION:
UID:e.2608.2961
SEQUENCE:3
DTSTAMP:20260423T172854Z
URL:https://business.ennis-chamber.com/events/details/ennis-chamber-s-w-a-p-networking-12-05-2019-2961
END:VEVENT

END:VCALENDAR
