BEGIN:VCALENDAR
VERSION:2.0
PRODID:-//ChamberMaster//Event Calendar 2.0//EN
METHOD:PUBLISH
X-PUBLISHED-TTL:P3D
REFRESH-INTERVAL:P3D
CALSCALE:GREGORIAN
BEGIN:VEVENT
DTSTART:20191107T173000Z
DTEND:20191107T190000Z
X-MICROSOFT-CDO-ALLDAYEVENT:FALSE
SUMMARY:Ennis Chamber S.W.A.P. Networking
DESCRIPTION:
X-ALT-DESC;FMTTYPE=text/html:
LOCATION:
UID:e.2608.2960
SEQUENCE:3
DTSTAMP:20260423T190104Z
URL:https://business.ennis-chamber.com/events/details/ennis-chamber-s-w-a-p-networking-11-07-2019-2960
END:VEVENT

END:VCALENDAR
