BEGIN:VCALENDAR
VERSION:2.0
PRODID:-//ChamberMaster//Event Calendar 2.0//EN
METHOD:PUBLISH
X-PUBLISHED-TTL:P3D
REFRESH-INTERVAL:P3D
CALSCALE:GREGORIAN
BEGIN:VEVENT
DTSTART:20201106T173000Z
DTEND:20201106T190000Z
X-MICROSOFT-CDO-ALLDAYEVENT:FALSE
SUMMARY:Ennis Chamber of Commerce Awards Luncheon
DESCRIPTION:Ennis Chamber of Commerce \n\nAwards Luncheon\n\nSpeaker: Judge Todd Little\n\nState of County Address & View of What's to Come
X-ALT-DESC;FMTTYPE=text/html:Ennis Chamber of Commerce&nbsp\;<br />\nAwards Luncheon<br />\nSpeaker: Judge Todd Little<br />\nState of County Address &amp\; View of What&#39\;s to Come
LOCATION:Ennis Chamber of Commerce 207 N.W. Main Street Ennis\, TX 75119
UID:e.2608.3252
SEQUENCE:3
DTSTAMP:20260422T182440Z
URL:https://business.ennis-chamber.com/events/details/ennis-chamber-of-commerce-awards-luncheon-3252
END:VEVENT

END:VCALENDAR
