BEGIN:VCALENDAR
VERSION:2.0
PRODID:-//ChamberMaster//Event Calendar 2.0//EN
METHOD:PUBLISH
X-PUBLISHED-TTL:P3D
REFRESH-INTERVAL:P3D
CALSCALE:GREGORIAN
BEGIN:VEVENT
DTSTART:20190321T163000Z
DTEND:20190321T180000Z
X-MICROSOFT-CDO-ALLDAYEVENT:FALSE
SUMMARY:Ennis Chamber Networking Meeting
DESCRIPTION:Kick-off for the Ennis Chamber Networking Meeting\n\nPlease bring your business card and a friend!!
X-ALT-DESC;FMTTYPE=text/html:Kick-off for the Ennis Chamber Networking Meeting<br />\nPlease bring your business card and a friend!!
LOCATION:108 Chamber of Commerce Drive Ennis\, TX 75119
UID:e.2608.2878
SEQUENCE:3
DTSTAMP:20260424T100844Z
URL:https://business.ennis-chamber.com/events/details/ennis-chamber-networking-meeting-2878
END:VEVENT

END:VCALENDAR
