BEGIN:VCALENDAR
VERSION:2.0
PRODID:-//ChamberMaster//Event Calendar 2.0//EN
METHOD:PUBLISH
X-PUBLISHED-TTL:P3D
REFRESH-INTERVAL:P3D
CALSCALE:GREGORIAN
BEGIN:VEVENT
DTSTART:20190620T130000Z
DTEND:20190620T143000Z
X-MICROSOFT-CDO-ALLDAYEVENT:FALSE
SUMMARY:Ennis Chamber Networking
DESCRIPTION:Ennis Chamber Networking
X-ALT-DESC;FMTTYPE=text/html:Ennis Chamber Networking<br />\n&nbsp\;
LOCATION:Ennis Chamber of Commerce 108 Chamber of Commerce Dr. Ennis\, Tx 75119
UID:e.2608.2930
SEQUENCE:3
DTSTAMP:20260424T025727Z
URL:https://business.ennis-chamber.com/events/details/ennis-chamber-networking-2930
END:VEVENT

END:VCALENDAR
