BEGIN:VCALENDAR
VERSION:2.0
PRODID:-//ChamberMaster//Event Calendar 2.0//EN
METHOD:PUBLISH
X-PUBLISHED-TTL:P3D
REFRESH-INTERVAL:P3D
CALSCALE:GREGORIAN
BEGIN:VEVENT
DTSTART:20190606T163000Z
DTEND:20190606T180000Z
X-MICROSOFT-CDO-ALLDAYEVENT:FALSE
SUMMARY:Ennis Chamber Networking
DESCRIPTION:S.W.A.P. Networking at the Ennis Chamber of Commerce\n\nLunch is provided\n\nBring your business cards & a friend
X-ALT-DESC;FMTTYPE=text/html:S.W.A.P. Networking at the Ennis Chamber of Commerce<br />\nLunch is provided<br />\nBring your business cards &amp\; a friend
LOCATION:Ennis Chamber of Commerce 108 Chamber of Commerce Dr. Ennis\, TX 75119
UID:e.2608.2925
SEQUENCE:3
DTSTAMP:20260424T051938Z
URL:https://business.ennis-chamber.com/events/details/ennis-chamber-networking-2925
END:VEVENT

END:VCALENDAR
