BEGIN:VCALENDAR
VERSION:2.0
PRODID:-//ChamberMaster//Event Calendar 2.0//EN
METHOD:PUBLISH
X-PUBLISHED-TTL:P3D
REFRESH-INTERVAL:P3D
CALSCALE:GREGORIAN
BEGIN:VEVENT
DTSTART:20190404T163000Z
DTEND:20190404T173000Z
X-MICROSOFT-CDO-ALLDAYEVENT:FALSE
SUMMARY:Ennis Chamber Networking
DESCRIPTION:Ennis Chamber Networking\n\nBring a friend & your business cards!\n\nLunch will be provided
X-ALT-DESC;FMTTYPE=text/html:Ennis Chamber Networking<br />\nBring a friend &amp\; your business cards!<br />\nLunch will be provided<br />\n<br />\n&nbsp\;
LOCATION:Ennis Chamber of Commerce 108 Chamber of Commerce Dr Ennis\, TX 75119
UID:e.2608.2895
SEQUENCE:3
DTSTAMP:20260424T095001Z
URL:https://business.ennis-chamber.com/events/details/ennis-chamber-networking-2895
END:VEVENT

END:VCALENDAR
