BEGIN:VCALENDAR
VERSION:2.0
PRODID:-//ChamberMaster//Event Calendar 2.0//EN
METHOD:PUBLISH
X-PUBLISHED-TTL:P3D
REFRESH-INTERVAL:P3D
CALSCALE:GREGORIAN
BEGIN:VEVENT
DTSTART;VALUE=DATE:20190401
DTEND;VALUE=DATE:20190501
TRANSP:TRANSPARENT
X-MICROSOFT-CDO-ALLDAYEVENT:TRUE
SUMMARY:Ennis Bluebonnet Trail Special
DESCRIPTION:Ennis Bluebonnet Trail Special\n\nStolen Moose Photography\n\n$100.00\n\n30 Minute Private Family Photo Session\n\nFive HD Digital Photos\n\nDogs Welcome
X-ALT-DESC;FMTTYPE=text/html:Ennis Bluebonnet Trail Special<br />\nStolen Moose Photography<br />\n$100.00<br />\n30 Minute Private Family Photo Session<br />\nFive HD Digital Photos<br />\nDogs Welcome&nbsp\;&nbsp\;&nbsp\;&nbsp\;
LOCATION:Walk-Ups Welcome (Call for Location) 972-268-3878
UID:e.2608.2902
SEQUENCE:3
DTSTAMP:20260424T080131Z
URL:https://business.ennis-chamber.com/events/details/ennis-bluebonnet-trail-special-2902
END:VEVENT

END:VCALENDAR
