BEGIN:VCALENDAR
VERSION:2.0
PRODID:-//ChamberMaster//Event Calendar 2.0//EN
METHOD:PUBLISH
X-PUBLISHED-TTL:P3D
REFRESH-INTERVAL:P3D
CALSCALE:GREGORIAN
BEGIN:VEVENT
DTSTART:20171027T150000Z
DTEND:20171027T200000Z
X-MICROSOFT-CDO-ALLDAYEVENT:FALSE
SUMMARY:Ennis Autumn Daze
DESCRIPTION:16th Annual Ennis fall event is getting a makeover!\n\nKnown for its charming children's events including pumpkin painting\, face painting and a hay maze added this past season\, the newly renamed Ennis Autumn Daze will be adding many new activites! Interactive activities like a corn pit for sensory play\, a tricycle coral\, and a MUCH larger scale hay maze that will remain up for the entire month of October\, are just a few of the upgrades we have planned.\n\nThe newly constructed Minnie McDowal Park will provide a perfect centrally located gathering place during this festival which runs in conjunction with the Ennis Farmers Market. It will include public restrooms\, climbing and water features for children\, a performance gazebo where concerts can be held\, and an eleven foot cast stone art wall. Headliner talent\, Chaz Marie\, has been hired to perform at the park during the festival beginning at 10am. Chaz's raspy voice and charming\, energetic personality gives her a reputation for reeling in the crowd and getting everyone moving and grooving. We are delighted to have such vibrant\, fresh talent at our festival.
X-ALT-DESC;FMTTYPE=text/html:<h3 align="center" style="font-style: italic\;"><span style="font-size: 14px\;"><big><span style="color: rgb(47\, 136\, 124)\;"><span style="font-family: times new roman\,serif\;">16<sup>th</sup>&nbsp\;Annual Ennis fall event is getting a makeover!</span></span></big></span></h3>\n\n<h4 style="font-style: italic\;"><span style="font-size: 16px\;">Known for its charming children&rsquo\;s events including pumpkin painting\, face painting and a hay maze added this past season\, the newly renamed Ennis Autumn Daze will be adding many new activites! Interactive activities like a corn pit for sensory play\, a tricycle coral\, and a MUCH larger scale hay maze that will remain up for the entire month of October\, are just a few of the upgrades we have planned.</span></h4>\n\n<h4 style="font-style: italic\;"><span style="font-size: 16px\;">The newly constructed Minnie McDowal Park will provide a perfect centrally located gathering place during this festival which runs in conjunction with the Ennis Farmers Market. It will include public restrooms\, climbing and water features for children\, a performance gazebo where concerts can be held\, and an eleven foot cast stone art wall. Headliner talent\, Chaz Marie\, has been hired to perform at the park during the festival beginning at 10am. Chaz&rsquo\;s raspy voice and charming\, energetic personality gives her a reputation for reeling in the crowd and getting everyone moving and grooving. We are delighted to have such vibrant\, fresh talent at our festival.</span></h4>\n
LOCATION:
UID:e.2608.626
SEQUENCE:3
DTSTAMP:20260425T174438Z
URL:https://business.ennis-chamber.com/events/details/ennis-autumn-daze-626
END:VEVENT

END:VCALENDAR
