BEGIN:VCALENDAR
VERSION:2.0
PRODID:-//ChamberMaster//Event Calendar 2.0//EN
METHOD:PUBLISH
X-PUBLISHED-TTL:P3D
REFRESH-INTERVAL:P3D
CALSCALE:GREGORIAN
BEGIN:VEVENT
DTSTART:20181027T140000Z
DTEND:20181028T020000Z
X-MICROSOFT-CDO-ALLDAYEVENT:FALSE
SUMMARY:Ennis Autumn Daze 2018
DESCRIPTION:Hosted by Ennis Main Street\n\n\n\nJoin us in historic downtown Ennis at Ennis Autumn Daze for fall family fun!\n\n  Trike Corral \n\n  Corn Pit \n\n  Pumpkin Painting \n\n  Hay Maze (North Plaza Parking Lot)\n\n  Craft Beer Garden\, Food and Shopping\n\n  Live Entertainment including Pontiax (5:00pm) and \n\nInfinite Journey (7:30pm)
X-ALT-DESC;FMTTYPE=text/html:<span style="color: rgb(51\, 51\, 51)\; font-family: &quot\;Liberation sans&quot\;\, Arial\, Helvetica\, sans-serif\; font-size: 13px\; background-color: rgb(255\, 255\, 255)\;">Hosted by Ennis Main Street<br />\n<br />\nJoin us in historic downtown Ennis at Ennis Autumn Daze for fall family fun!</span><br style="outline: none\; vertical-align: top\; color: rgb(51\, 51\, 51)\; font-family: &quot\;Liberation sans&quot\;\, Arial\, Helvetica\, sans-serif\; font-size: 13px\; background-color: rgb(255\, 255\, 255)\;" />\n<span style="color: rgb(51\, 51\, 51)\; font-family: &quot\;Liberation sans&quot\;\, Arial\, Helvetica\, sans-serif\; font-size: 13px\; background-color: rgb(255\, 255\, 255)\;">&bull\; Trike Corral&nbsp\;</span><br style="outline: none\; vertical-align: top\; color: rgb(51\, 51\, 51)\; font-family: &quot\;Liberation sans&quot\;\, Arial\, Helvetica\, sans-serif\; font-size: 13px\; background-color: rgb(255\, 255\, 255)\;" />\n<span style="color: rgb(51\, 51\, 51)\; font-family: &quot\;Liberation sans&quot\;\, Arial\, Helvetica\, sans-serif\; font-size: 13px\; background-color: rgb(255\, 255\, 255)\;">&bull\; Corn Pit&nbsp\;</span><br style="outline: none\; vertical-align: top\; color: rgb(51\, 51\, 51)\; font-family: &quot\;Liberation sans&quot\;\, Arial\, Helvetica\, sans-serif\; font-size: 13px\; background-color: rgb(255\, 255\, 255)\;" />\n<span style="color: rgb(51\, 51\, 51)\; font-family: &quot\;Liberation sans&quot\;\, Arial\, Helvetica\, sans-serif\; font-size: 13px\; background-color: rgb(255\, 255\, 255)\;">&bull\; Pumpkin Painting&nbsp\;</span><br style="outline: none\; vertical-align: top\; color: rgb(51\, 51\, 51)\; font-family: &quot\;Liberation sans&quot\;\, Arial\, Helvetica\, sans-serif\; font-size: 13px\; background-color: rgb(255\, 255\, 255)\;" />\n<span style="color: rgb(51\, 51\, 51)\; font-family: &quot\;Liberation sans&quot\;\, Arial\, Helvetica\, sans-serif\; font-size: 13px\; background-color: rgb(255\, 255\, 255)\;">&bull\; Hay Maze (North Plaza Parking Lot)</span><br style="outline: none\; vertical-align: top\; color: rgb(51\, 51\, 51)\; font-family: &quot\;Liberation sans&quot\;\, Arial\, Helvetica\, sans-serif\; font-size: 13px\; background-color: rgb(255\, 255\, 255)\;" />\n<span style="color: rgb(51\, 51\, 51)\; font-family: &quot\;Liberation sans&quot\;\, Arial\, Helvetica\, sans-serif\; font-size: 13px\; background-color: rgb(255\, 255\, 255)\;">&bull\; Craft Beer Garden\, Food and Shopping</span><br style="outline: none\; vertical-align: top\; color: rgb(51\, 51\, 51)\; font-family: &quot\;Liberation sans&quot\;\, Arial\, Helvetica\, sans-serif\; font-size: 13px\; background-color: rgb(255\, 255\, 255)\;" />\n<span style="color: rgb(51\, 51\, 51)\; font-family: &quot\;Liberation sans&quot\;\, Arial\, Helvetica\, sans-serif\; font-size: 13px\; background-color: rgb(255\, 255\, 255)\;">&bull\; Live Entertainment including&nbsp\;</span><strong style="outline: none\; vertical-align: top\; color: rgb(51\, 51\, 51)\; font-family: &quot\;Liberation sans&quot\;\, Arial\, Helvetica\, sans-serif\; font-size: 13px\; background-color: rgb(255\, 255\, 255)\;">Pontiax</strong><span style="color: rgb(51\, 51\, 51)\; font-family: &quot\;Liberation sans&quot\;\, Arial\, Helvetica\, sans-serif\; font-size: 13px\; background-color: rgb(255\, 255\, 255)\;">&nbsp\;(5:00pm) and&nbsp\;</span><br style="outline: none\; vertical-align: top\; color: rgb(51\, 51\, 51)\; font-family: &quot\;Liberation sans&quot\;\, Arial\, Helvetica\, sans-serif\; font-size: 13px\; background-color: rgb(255\, 255\, 255)\;" />\n<strong style="outline: none\; vertical-align: top\; color: rgb(51\, 51\, 51)\; font-family: &quot\;Liberation sans&quot\;\, Arial\, Helvetica\, sans-serif\; font-size: 13px\; background-color: rgb(255\, 255\, 255)\;">Infinite Journey</strong><span style="color: rgb(51\, 51\, 51)\; font-family: &quot\;Liberation sans&quot\;\, Arial\, Helvetica\, sans-serif\; font-size: 13px\; background-color: rgb(255\, 255\, 255)\;">&nbsp\;(7:30pm)</span><br />\n<br />\n<br />\n&nbsp\;
LOCATION:119 N Dallas St in Downtown Ennis
UID:e.2608.2851
SEQUENCE:3
DTSTAMP:20260424T211555Z
URL:https://business.ennis-chamber.com/events/details/ennis-autumn-daze-2851
END:VEVENT

END:VCALENDAR
