BEGIN:VCALENDAR
VERSION:2.0
PRODID:-//ChamberMaster//Event Calendar 2.0//EN
METHOD:PUBLISH
X-PUBLISHED-TTL:P3D
REFRESH-INTERVAL:P3D
CALSCALE:GREGORIAN
BEGIN:VEVENT
DTSTART:20190323T003000Z
DTEND:20190323T050000Z
X-MICROSOFT-CDO-ALLDAYEVENT:FALSE
SUMMARY:Ellis County Livestock Show & Rodeo
DESCRIPTION:Live Music Featuring:\n\nCurtis Grimes & Brandon Rhyder
X-ALT-DESC;FMTTYPE=text/html:Live Music Featuring:<br />\nCurtis Grimes &amp\; Brandon Rhyder
LOCATION:
UID:e.2608.2889
SEQUENCE:3
DTSTAMP:20260424T101441Z
URL:https://business.ennis-chamber.com/events/details/ellis-county-livestock-show-rodeo-2889
END:VEVENT

END:VCALENDAR
