BEGIN:VCALENDAR
VERSION:2.0
PRODID:-//ChamberMaster//Event Calendar 2.0//EN
METHOD:PUBLISH
X-PUBLISHED-TTL:P3D
REFRESH-INTERVAL:P3D
CALSCALE:GREGORIAN
BEGIN:VEVENT
DTSTART:20171111T000000Z
DTEND:20171111T053000Z
X-MICROSOFT-CDO-ALLDAYEVENT:FALSE
SUMMARY:Ellis County Detachment #1452 Marine Corps League\, 242nd Marine Corps Birthday Ball Celebration
DESCRIPTION:The Ellis County Detachment #1452 of the Marine Corps League is proud to announce that they will be hosting a Marine Corps Ball this year to celebrate the birthday!  The League is excited to include the civilian community in this years celebration!  The event will take place on November 10\, 2017 at the Texas Motorplex Champions Club in Ennis.  Cocktail hour will start at 6:00 pm and ceremony/dinner will begin at 7:00 pm.  This is a semi-formal or military dress affair!  Tickets are $50.00 per person.  It is going to be a night of history\, delicious food\, dancing and fellowship with local Veterans.  We are also pleased to announce that we will have Texas State Representative\, John Wray as our guest speaker for the evening!  We are looking for this to be a yearly event here in the county!  So if you love Veterans\, the Marine Corps or just a fun date night out please send an email to the address below to purchase tickets.
X-ALT-DESC;FMTTYPE=text/html:<span style="font-family:bodoni mt\,serif"><span style="font-size:18.0pt">The Ellis County Detachment #1452 of the Marine Corps League is proud to announce that they will be hosting a Marine Corps Ball this year to celebrate the birthday!&nbsp\; The League is excited to include the civilian community in this years celebration!&nbsp\; The event will take place on November 10\, 2017 at the Texas Motorplex Champions Club in Ennis.&nbsp\; Cocktail hour will start at 6:00 pm and ceremony/dinner will begin at 7:00 pm.&nbsp\; This is a semi-formal or military dress affair!&nbsp\; Tickets are $50.00 per person.&nbsp\; It is going to be a night of history\, delicious food\, dancing and fellowship with local Veterans.&nbsp\; We are also pleased to announce that we will have Texas State Representative\, John Wray as our guest speaker for the evening!&nbsp\; We are looking for this to be a yearly event here in the county!&nbsp\; So if you love Veterans\, the Marine Corps or just a fun date night out please send an email to the address below to purchase tickets.</span></span>
LOCATION:Texas Motorplex Champions Club
UID:e.2608.669
SEQUENCE:3
DTSTAMP:20260425T155158Z
URL:https://business.ennis-chamber.com/events/details/ellis-county-detachment-1452-marine-corps-league-242nd-marine-corps-birthday-ball-celebration-669
END:VEVENT

END:VCALENDAR
