BEGIN:VCALENDAR
VERSION:2.0
PRODID:-//ChamberMaster//Event Calendar 2.0//EN
METHOD:PUBLISH
X-PUBLISHED-TTL:P3D
REFRESH-INTERVAL:P3D
CALSCALE:GREGORIAN
BEGIN:VEVENT
DTSTART;VALUE=DATE:20190430
DTEND;VALUE=DATE:20190501
TRANSP:TRANSPARENT
X-MICROSOFT-CDO-ALLDAYEVENT:TRUE
SUMMARY:Ellis County Chamber Day in Austin
DESCRIPTION:Ellis County Chamber Day in Austin\n\nTransportation\, Tours & Two Meals are provided.
X-ALT-DESC;FMTTYPE=text/html:Ellis County Chamber Day in Austin<br />\nTransportation\, Tours &amp\; Two Meals are provided.&nbsp\;
LOCATION:
UID:e.2608.2903
SEQUENCE:3
DTSTAMP:20260424T101400Z
URL:https://business.ennis-chamber.com/events/details/ellis-county-chamber-day-in-austin-2903
END:VEVENT

END:VCALENDAR
