BEGIN:VCALENDAR
VERSION:2.0
PRODID:-//ChamberMaster//Event Calendar 2.0//EN
METHOD:PUBLISH
X-PUBLISHED-TTL:P3D
REFRESH-INTERVAL:P3D
CALSCALE:GREGORIAN
BEGIN:VEVENT
DTSTART:20190409T223000Z
DTEND:20190409T233000Z
X-MICROSOFT-CDO-ALLDAYEVENT:FALSE
SUMMARY:Elegant Expressions Ribbon Cutting and Business After Hours
DESCRIPTION:Ribbon Cutting and Business After Hours\n\nElegant Expressions
X-ALT-DESC;FMTTYPE=text/html:Ribbon Cutting and Business After Hours<br />\nElegant Expressions<br />\n&nbsp\;
LOCATION:Elegant Expressions 1905 W. Ennis Ave Suite 510 Ennis\, Tx 75119
UID:e.2608.2897
SEQUENCE:3
DTSTAMP:20260424T101834Z
URL:https://business.ennis-chamber.com/events/details/elegant-expressions-ribbon-cutting-and-business-after-hours-2897
END:VEVENT

END:VCALENDAR
