BEGIN:VCALENDAR
VERSION:2.0
PRODID:-//ChamberMaster//Event Calendar 2.0//EN
METHOD:PUBLISH
X-PUBLISHED-TTL:P3D
REFRESH-INTERVAL:P3D
CALSCALE:GREGORIAN
BEGIN:VEVENT
DTSTART;VALUE=DATE:20191123
DTEND;VALUE=DATE:20191124
TRANSP:TRANSPARENT
X-MICROSOFT-CDO-ALLDAYEVENT:TRUE
SUMMARY:El Durango Western Wear
DESCRIPTION:Grand Opening & Ribbon Cutting
X-ALT-DESC;FMTTYPE=text/html:Grand Opening &amp\; Ribbon Cutting&nbsp\;
LOCATION:El Durango Western Wear 811 E Ennis Ave Ennis\, TX 75119
UID:e.2608.3224
SEQUENCE:3
DTSTAMP:20260423T171714Z
URL:https://business.ennis-chamber.com/events/details/el-durango-western-wear-3224
END:VEVENT

END:VCALENDAR
