BEGIN:VCALENDAR
VERSION:2.0
PRODID:-//ChamberMaster//Event Calendar 2.0//EN
METHOD:PUBLISH
X-PUBLISHED-TTL:P3D
REFRESH-INTERVAL:P3D
CALSCALE:GREGORIAN
BEGIN:VEVENT
DTSTART:20190503T220000Z
DTEND:20190504T020000Z
X-MICROSOFT-CDO-ALLDAYEVENT:FALSE
SUMMARY:EHS Bass Club Crawfish Boil
DESCRIPTION:EHS Bass Club 2nd Annual Crawfish Boil
X-ALT-DESC;FMTTYPE=text/html:EHS Bass Club 2nd Annual Crawfish Boil<br />\n&nbsp\;
LOCATION:KJT 1216 S. Paris St. Ennis\, TX 75119
UID:e.2608.2915
SEQUENCE:3
DTSTAMP:20260424T052718Z
URL:https://business.ennis-chamber.com/events/details/ehs-bass-club-crawfish-boil-2915
END:VEVENT

END:VCALENDAR
