BEGIN:VCALENDAR
VERSION:2.0
PRODID:-//ChamberMaster//Event Calendar 2.0//EN
METHOD:PUBLISH
X-PUBLISHED-TTL:P3D
REFRESH-INTERVAL:P3D
CALSCALE:GREGORIAN
BEGIN:VEVENT
DTSTART:20190419T190000Z
DTEND:20190419T210000Z
X-MICROSOFT-CDO-ALLDAYEVENT:FALSE
SUMMARY:Easter Eggstravaganza
DESCRIPTION:Easter Eggstravaganza\n\nRefreshments & Pictures with the Easter Bunny\n\nSpecial musical guest\, Cindy Sanders\, will be entertaining
X-ALT-DESC;FMTTYPE=text/html:Easter Eggstravaganza<br />\nRefreshments &amp\; Pictures with the Easter Bunny<br />\nSpecial musical guest\, Cindy Sanders\, will be entertaining<br />\n&nbsp\;
LOCATION:Brookdale Ennis 2500 Yorkstown Drive Ennis\, Tx 75119
UID:e.2608.2899
SEQUENCE:3
DTSTAMP:20260424T074959Z
URL:https://business.ennis-chamber.com/events/details/easter-eggstravaganza-2899
END:VEVENT

END:VCALENDAR
