BEGIN:VCALENDAR
VERSION:2.0
PRODID:-//ChamberMaster//Event Calendar 2.0//EN
METHOD:PUBLISH
X-PUBLISHED-TTL:P3D
REFRESH-INTERVAL:P3D
CALSCALE:GREGORIAN
BEGIN:VEVENT
DTSTART:20190331T190000Z
DTEND:20190331T200000Z
X-MICROSOFT-CDO-ALLDAYEVENT:FALSE
SUMMARY:Easter Egg Decorating Workshop
DESCRIPTION:Easter Egg Decorating Workshop
X-ALT-DESC;FMTTYPE=text/html:Easter Egg Decorating Workshop<br />\n&nbsp\;&nbsp\;&nbsp\;&nbsp\;
LOCATION:Sokol Hall 2622 E. Hwy 34 Ennis\, TX 75119
UID:e.2608.2896
SEQUENCE:3
DTSTAMP:20260424T100406Z
URL:https://business.ennis-chamber.com/events/details/easter-egg-decorating-workshop-2896
END:VEVENT

END:VCALENDAR
