BEGIN:VCALENDAR
VERSION:2.0
PRODID:-//ChamberMaster//Event Calendar 2.0//EN
METHOD:PUBLISH
X-PUBLISHED-TTL:P3D
REFRESH-INTERVAL:P3D
CALSCALE:GREGORIAN
BEGIN:VEVENT
DTSTART:20190808T220000Z
DTEND:20190808T233000Z
X-MICROSOFT-CDO-ALLDAYEVENT:FALSE
SUMMARY:Dr. Graham's Welcome Reception & Ribbon Cutting
DESCRIPTION:Dr. Graham's Welcome Reception & Ribbon Cutting
X-ALT-DESC;FMTTYPE=text/html:Dr. Graham&#39\;s Welcome Reception &amp\; Ribbon Cutting&nbsp\;
LOCATION:Medical Office Building 2203 W. Lampasas Suite 218 Ennis\, Tx 75119
UID:e.2608.2938
SEQUENCE:3
DTSTAMP:20260424T002545Z
URL:https://business.ennis-chamber.com/events/details/dr-graham-s-welcome-reception-ribbon-cutting-2938
END:VEVENT

END:VCALENDAR
