BEGIN:VCALENDAR
VERSION:2.0
PRODID:-//ChamberMaster//Event Calendar 2.0//EN
METHOD:PUBLISH
X-PUBLISHED-TTL:P3D
REFRESH-INTERVAL:P3D
CALSCALE:GREGORIAN
BEGIN:VEVENT
DTSTART:20190406T140000Z
DTEND:20190406T170000Z
X-MICROSOFT-CDO-ALLDAYEVENT:FALSE
SUMMARY:Don't Mess With Texas
DESCRIPTION:Don't Mess With Texas\n\nTexas Trash-Off
X-ALT-DESC;FMTTYPE=text/html:Don&#39\;t Mess With Texas<br />\nTexas Trash-Off&nbsp\;&nbsp\;&nbsp\;&nbsp\;
LOCATION:Starting point will be: The Way\, Truth & Life Church parking lot
UID:e.2608.2894
SEQUENCE:3
DTSTAMP:20260424T075236Z
URL:https://business.ennis-chamber.com/events/details/don-t-mess-with-texas-2894
END:VEVENT

END:VCALENDAR
