BEGIN:VCALENDAR
VERSION:2.0
PRODID:-//ChamberMaster//Event Calendar 2.0//EN
METHOD:PUBLISH
X-PUBLISHED-TTL:P3D
REFRESH-INTERVAL:P3D
CALSCALE:GREGORIAN
BEGIN:VEVENT
DTSTART:20170409T000000Z
DTEND:20170409T013000Z
X-MICROSOFT-CDO-ALLDAYEVENT:FALSE
SUMMARY:Dallas Jazz Orchestra - sponsored by Waxahachie Symphony Association
DESCRIPTION:Twice Grammy nominated Dallas Jazz Orchestra   jazz and big band sound at its best!
X-ALT-DESC;FMTTYPE=text/html:Twice Grammy nominated Dallas Jazz Orchestra &ndash\; jazz and big band sound at its best!
LOCATION:Southwestern Assemblies of God University - Hagee Communication Center\, 1200 Sycamore\, Waxahachie TX 75165
UID:e.2608.146
SEQUENCE:3
DTSTAMP:20260426T041610Z
URL:https://business.ennis-chamber.com/events/details/dallas-jazz-orchestra-sponsored-by-waxahachie-symphony-association-146
END:VEVENT

END:VCALENDAR
