BEGIN:VCALENDAR
VERSION:2.0
PRODID:-//ChamberMaster//Event Calendar 2.0//EN
METHOD:PUBLISH
X-PUBLISHED-TTL:P3D
REFRESH-INTERVAL:P3D
CALSCALE:GREGORIAN
BEGIN:VEVENT
DTSTART:20171003T120000Z
DTEND:20171003T130000Z
X-MICROSOFT-CDO-ALLDAYEVENT:FALSE
SUMMARY:Community Prayer Breakfast
DESCRIPTION:County Commissioner\, Lane Grayson\, will be the featured guest speaker. \n\nThis will be an opportunity for city\, community and business leaders along with citizens and pastors to gather for a reminder of our need to pray for each other and all our community. With lots of communities in struggle of various sorts\, it will be good for us to join together and strengthen our ranks through a spiritual and prayer focus.
X-ALT-DESC;FMTTYPE=text/html:<blockquote type="cite"><span style="font-family: arial\;"><span style="font-size: medium\;">County Commissioner\, Lane Grayson\, will be the featured guest speaker. </span><br />\n<span style="font-size: medium\;">This will be&nbsp\;an opportunity for city\, community and business leaders along with citizens and pastors to gather for a reminder of our need to pray for each other and all our community. With lots of communities in struggle of various sorts\, it will be good for us to join together and strengthen our ranks through a spiritual and prayer focus. </span></span><br />\n&nbsp\;</blockquote>\n
LOCATION:Vintage Cross Cafe 101 S. Dallas Street\, #100 Ennis\, TX 75119
UID:e.2608.645
SEQUENCE:3
DTSTAMP:20260425T174401Z
URL:https://business.ennis-chamber.com/events/details/community-prayer-breakfast-645
END:VEVENT

END:VCALENDAR
