BEGIN:VCALENDAR
VERSION:2.0
PRODID:-//ChamberMaster//Event Calendar 2.0//EN
METHOD:PUBLISH
X-PUBLISHED-TTL:P3D
REFRESH-INTERVAL:P3D
CALSCALE:GREGORIAN
BEGIN:VEVENT
DTSTART:20190523T230000Z
DTEND:20190524T000000Z
X-MICROSOFT-CDO-ALLDAYEVENT:FALSE
SUMMARY:Come Czech Us Out
DESCRIPTION:Brookdale Ennis \n\nPresents\n\nCzech Us Out
X-ALT-DESC;FMTTYPE=text/html:Brookdale Ennis&nbsp\;<br />\nPresents<br />\nCzech Us Out
LOCATION:Brookdale Ennis 2500 Yorkstown Dr Ennis\, TX 75119
UID:e.2608.2923
SEQUENCE:3
DTSTAMP:20260424T052109Z
URL:https://business.ennis-chamber.com/events/details/come-czech-us-out-2923
END:VEVENT

END:VCALENDAR
