BEGIN:VCALENDAR
VERSION:2.0
PRODID:-//ChamberMaster//Event Calendar 2.0//EN
METHOD:PUBLISH
X-PUBLISHED-TTL:P3D
REFRESH-INTERVAL:P3D
CALSCALE:GREGORIAN
BEGIN:VEVENT
DTSTART:20190615T140000Z
DTEND:20190615T220000Z
X-MICROSOFT-CDO-ALLDAYEVENT:FALSE
SUMMARY:Claire Walsh Horsemanship Workshop
DESCRIPTION:Claire Walsh\n\nHorsemanship Workshop\n\nPresented by Runnin' Free Ranch
X-ALT-DESC;FMTTYPE=text/html:Claire Walsh<br />\nHorsemanship Workshop<br />\nPresented by Runnin&#39\; Free Ranch
LOCATION:Sai Arena 5326 Old Buena Vista Rd Waxahachie\, TX
UID:e.2608.2914
SEQUENCE:3
DTSTAMP:20260424T025914Z
URL:https://business.ennis-chamber.com/events/details/claire-walsh-horsemanship-workshop-2914
END:VEVENT

END:VCALENDAR
