BEGIN:VCALENDAR
VERSION:2.0
PRODID:-//ChamberMaster//Event Calendar 2.0//EN
METHOD:PUBLISH
X-PUBLISHED-TTL:P3D
REFRESH-INTERVAL:P3D
CALSCALE:GREGORIAN
BEGIN:VEVENT
DTSTART:20170420T233000Z
DTEND:20170421T010000Z
X-MICROSOFT-CDO-ALLDAYEVENT:FALSE
SUMMARY:City Commissioner Forum Ward 4
DESCRIPTION:You can submit your questions for the canidates prior to the forum. Questions submitted wil be screened and kept anoymous. Please email Jeannette@ennis-chamber.com. Not all questions will be inlcuded due to time constraints.
X-ALT-DESC;FMTTYPE=text/html:You can submit your questions for the canidates prior to the forum. Questions submitted wil be screened and kept anoymous. Please email <a href="mailto:Jeannette@ennis-chamber.com">Jeannette@ennis-chamber.com</a>. Not all questions will be inlcuded due to time constraints.
LOCATION:Ennis Chamber of Commerce 108 Chamber of Commerce Drive Ennis\, TX 75119
UID:e.2608.183
SEQUENCE:3
DTSTAMP:20260426T041056Z
URL:https://business.ennis-chamber.com/events/details/city-commissioner-forum-ward-4-183
END:VEVENT

END:VCALENDAR
