BEGIN:VCALENDAR
VERSION:2.0
PRODID:-//ChamberMaster//Event Calendar 2.0//EN
METHOD:PUBLISH
X-PUBLISHED-TTL:P3D
REFRESH-INTERVAL:P3D
CALSCALE:GREGORIAN
BEGIN:VEVENT
DTSTART:20181210T173000Z
DTEND:20181210T190000Z
X-MICROSOFT-CDO-ALLDAYEVENT:FALSE
SUMMARY:Chamber Board Meeting
DESCRIPTION:
X-ALT-DESC;FMTTYPE=text/html:
LOCATION:
UID:e.2608.1789
SEQUENCE:3
DTSTAMP:20260424T161848Z
URL:https://business.ennis-chamber.com/events/details/chamber-board-meeting-12-10-2018-1789
END:VEVENT

END:VCALENDAR
