BEGIN:VCALENDAR
VERSION:2.0
PRODID:-//ChamberMaster//Event Calendar 2.0//EN
METHOD:PUBLISH
X-PUBLISHED-TTL:P3D
REFRESH-INTERVAL:P3D
CALSCALE:GREGORIAN
BEGIN:VEVENT
DTSTART:20190907T223000Z
DTEND:20190908T040000Z
X-MICROSOFT-CDO-ALLDAYEVENT:FALSE
SUMMARY:Chamber Auction "Deep in the Heart of Texas"
DESCRIPTION:Ennis Chamber Auction\n\n"Deep in the Heart of Texas"
X-ALT-DESC;FMTTYPE=text/html:Ennis Chamber Auction<br />\n&quot\;Deep in the Heart of Texas&quot\;
LOCATION:Sokol Hall 2622 E Hwy 34 Ennis\, TX 75119
UID:e.2608.2928
SEQUENCE:3
DTSTAMP:20260423T210055Z
URL:https://business.ennis-chamber.com/events/details/chamber-auction-deep-in-the-heart-of-texas-2928
END:VEVENT

END:VCALENDAR
