BEGIN:VCALENDAR
VERSION:2.0
PRODID:-//ChamberMaster//Event Calendar 2.0//EN
METHOD:PUBLISH
X-PUBLISHED-TTL:P3D
REFRESH-INTERVAL:P3D
CALSCALE:GREGORIAN
BEGIN:VEVENT
DTSTART:20190131T163000Z
DTEND:20190131T180000Z
X-MICROSOFT-CDO-ALLDAYEVENT:FALSE
SUMMARY:Centex Citizens Credit Union Groundbreaking Ceremony
DESCRIPTION:Groundbreaking Ceremony\n\nCentex Citizens Credit Union
X-ALT-DESC;FMTTYPE=text/html:Groundbreaking Ceremony<br />\nCentex Citizens Credit Union
LOCATION:2251 W. Ennis Avenue Ennis\, TX 75119
UID:e.2608.2874
SEQUENCE:3
DTSTAMP:20260424T143339Z
URL:https://business.ennis-chamber.com/events/details/centex-citizens-credit-union-groundbreaking-ceremony-2874
END:VEVENT

END:VCALENDAR
