BEGIN:VCALENDAR
VERSION:2.0
PRODID:-//ChamberMaster//Event Calendar 2.0//EN
METHOD:PUBLISH
X-PUBLISHED-TTL:P3D
REFRESH-INTERVAL:P3D
CALSCALE:GREGORIAN
BEGIN:VEVENT
DTSTART:20200106T160000Z
DTEND:20200106T170000Z
X-MICROSOFT-CDO-ALLDAYEVENT:FALSE
SUMMARY:Centex Citizens Credit Union
DESCRIPTION:Ribbon Cutting for Centex Citizens Credit Union
X-ALT-DESC;FMTTYPE=text/html:Ribbon Cutting for Centex Citizens Credit Union<br />\n&nbsp\;
LOCATION:Centex Citizens Credit Union 2251 W Ennis Ave Ennis\, Tx 75119
UID:e.2608.3230
SEQUENCE:3
DTSTAMP:20260423T135725Z
URL:https://business.ennis-chamber.com/events/details/centex-citizens-credit-union-3230
END:VEVENT

END:VCALENDAR
