BEGIN:VCALENDAR
VERSION:2.0
PRODID:-//ChamberMaster//Event Calendar 2.0//EN
METHOD:PUBLISH
X-PUBLISHED-TTL:P3D
REFRESH-INTERVAL:P3D
CALSCALE:GREGORIAN
BEGIN:VEVENT
DTSTART;VALUE=DATE:20190318
DTEND;VALUE=DATE:20190414
TRANSP:TRANSPARENT
X-MICROSOFT-CDO-ALLDAYEVENT:TRUE
SUMMARY:Camp Gladiator Hot Deal
DESCRIPTION:SPECIAL - $29\n\nBuy Two Weeks of Workouts\, Get Two Free\n\nNormally $189
X-ALT-DESC;FMTTYPE=text/html:SPECIAL - $29<br />\nBuy Two Weeks of Workouts\, Get Two Free<br />\nNormally $189
LOCATION:Camp Gladiator
UID:e.2608.2892
SEQUENCE:3
DTSTAMP:20260424T080232Z
URL:https://business.ennis-chamber.com/events/details/camp-gladiator-hot-deal-2892
END:VEVENT

END:VCALENDAR
