BEGIN:VCALENDAR
VERSION:2.0
PRODID:-//ChamberMaster//Event Calendar 2.0//EN
METHOD:PUBLISH
X-PUBLISHED-TTL:P3D
REFRESH-INTERVAL:P3D
CALSCALE:GREGORIAN
BEGIN:VEVENT
DTSTART;VALUE=DATE:20171021
DTEND;VALUE=DATE:20171022
TRANSP:TRANSPARENT
X-MICROSOFT-CDO-ALLDAYEVENT:TRUE
SUMMARY:BYOM (Bring Your Own Meat) at Sugar Ridge Winery
DESCRIPTION:Make your reservations quick space limited 50 people.You bring your own meat to grill on our grills\, you cook it yourself\, and we do the rest! We provide you a baked potato\, salad\, and all the fixings for the salad and potatoes. Dinnerware\, seasonings\, and grills are here for your use. Make your reservations early and please let us know if you are canceling so we can get replacements. We have our grills ready to go by 5:00 PM. All reservations must be done online. This is no charge we just ask you buy a bottle of wine or two and enjoy your evening.
X-ALT-DESC;FMTTYPE=text/html:Make your reservations quick space limited 50 people.You bring your own meat to grill on our grills\, you cook it yourself\, and we do the rest! We provide you a baked potato\, salad\, and all the fixings for the salad and potatoes. Dinnerware\, seasonings\, and grills are here for your use. Make your reservations early and please let us know if you are canceling so we can get replacements. We have our grills ready to go by 5:00 PM. All reservations must be done online. This is no charge we just ask you buy a bottle of wine or two and enjoy your evening.
LOCATION:Sugar Ridge Winery 353 Sugar Ridge Road Ennis\, TX 75119
UID:e.2608.585
SEQUENCE:3
DTSTAMP:20260425T174843Z
URL:https://business.ennis-chamber.com/events/details/byom-bring-your-own-meat-at-sugar-ridge-winery-585
END:VEVENT

END:VCALENDAR
