BEGIN:VCALENDAR
VERSION:2.0
PRODID:-//ChamberMaster//Event Calendar 2.0//EN
METHOD:PUBLISH
X-PUBLISHED-TTL:P3D
REFRESH-INTERVAL:P3D
CALSCALE:GREGORIAN
BEGIN:VEVENT
DTSTART:20181115T231500Z
DTEND:20181116T001500Z
X-MICROSOFT-CDO-ALLDAYEVENT:FALSE
SUMMARY:Business After Hours & Ribbon Cutting for iKids Pediatric Dentistry
DESCRIPTION:iKids Pediatric Dentistry\n\nBusiness After Hours & Ribbon Cutting
X-ALT-DESC;FMTTYPE=text/html:iKids Pediatric Dentistry<br />\nBusiness After Hours &amp\; Ribbon Cutting
LOCATION:711 S. Clay St Suite A Ennis\, TX 75119
UID:e.2608.2860
SEQUENCE:3
DTSTAMP:20260424T193033Z
URL:https://business.ennis-chamber.com/events/details/business-after-hours-ribbon-cutting-for-ikids-pediatric-dentistry-2860
END:VEVENT

END:VCALENDAR
