BEGIN:VCALENDAR
VERSION:2.0
PRODID:-//ChamberMaster//Event Calendar 2.0//EN
METHOD:PUBLISH
X-PUBLISHED-TTL:P3D
REFRESH-INTERVAL:P3D
CALSCALE:GREGORIAN
BEGIN:VEVENT
DTSTART:20181109T220000Z
DTEND:20181110T000000Z
X-MICROSOFT-CDO-ALLDAYEVENT:FALSE
SUMMARY:Business After Hours & Ribbon Cutting for FBM Property Management
DESCRIPTION:Ribbon Cutting & Business After Hours\n\nFBM Property Management
X-ALT-DESC;FMTTYPE=text/html:Ribbon Cutting &amp\; Business After Hours<br />\nFBM Property Management<br />\n&nbsp\;
LOCATION:1905 West Ennis Avenue Suite 204 Ennis\, TX 75119
UID:e.2608.2861
SEQUENCE:3
DTSTAMP:20260424T180147Z
URL:https://business.ennis-chamber.com/events/details/business-after-hours-ribbon-cutting-for-fbm-property-management-2861
END:VEVENT

END:VCALENDAR
