BEGIN:VCALENDAR
VERSION:2.0
PRODID:-//ChamberMaster//Event Calendar 2.0//EN
METHOD:PUBLISH
X-PUBLISHED-TTL:P3D
REFRESH-INTERVAL:P3D
CALSCALE:GREGORIAN
BEGIN:VEVENT
DTSTART:20181113T231500Z
DTEND:20181114T001500Z
X-MICROSOFT-CDO-ALLDAYEVENT:FALSE
SUMMARY:Business After Hours & Ribbon Cutting - Ennis Event & Conference Center
DESCRIPTION:
X-ALT-DESC;FMTTYPE=text/html:
LOCATION:213 W Ennis Ave Ennis\, TX 75119
UID:e.2608.2864
SEQUENCE:3
DTSTAMP:20260424T180620Z
URL:https://business.ennis-chamber.com/events/details/business-after-hours-ribbon-cutting-ennis-event-conference-center-2864
END:VEVENT

END:VCALENDAR
