BEGIN:VCALENDAR
VERSION:2.0
PRODID:-//ChamberMaster//Event Calendar 2.0//EN
METHOD:PUBLISH
X-PUBLISHED-TTL:P3D
REFRESH-INTERVAL:P3D
CALSCALE:GREGORIAN
BEGIN:VEVENT
DTSTART:20180726T230000Z
DTEND:20180727T000000Z
X-MICROSOFT-CDO-ALLDAYEVENT:FALSE
SUMMARY:Business After Hours at Legends Oak Healthcare & Rehabilitation in Ennis
DESCRIPTION:
X-ALT-DESC;FMTTYPE=text/html:
LOCATION:1400 Medical Center Dr. Ennis\, Texas 75119
UID:e.2608.2834
SEQUENCE:3
DTSTAMP:20260425T011612Z
URL:https://business.ennis-chamber.com/events/details/business-after-hours-at-legends-oak-healthcare-rehabilitation-in-ennis-2834
END:VEVENT

END:VCALENDAR
