BEGIN:VCALENDAR
VERSION:2.0
PRODID:-//ChamberMaster//Event Calendar 2.0//EN
METHOD:PUBLISH
X-PUBLISHED-TTL:P3D
REFRESH-INTERVAL:P3D
CALSCALE:GREGORIAN
BEGIN:VEVENT
DTSTART:20170401T230000Z
DTEND:20170402T030000Z
X-MICROSOFT-CDO-ALLDAYEVENT:FALSE
SUMMARY:Brilliance 2017
DESCRIPTION:The Navarro College Foundation presents it's 9th annual Brilliance Fundraising event benefiting deserving Ellis County students. To date\, Brilliance has awarded over 1000 scholarships to Ellis County students.
X-ALT-DESC;FMTTYPE=text/html:The Navarro College Foundation presents it&#39\;s 9th annual Brilliance Fundraising event benefiting deserving Ellis County students. To date\, Brilliance has awarded over 1000 scholarships to Ellis County students.
LOCATION:Midlothian Conference Center
UID:e.2608.127
SEQUENCE:3
DTSTAMP:20260426T040734Z
URL:https://business.ennis-chamber.com/events/details/brilliance-2017-127
END:VEVENT

END:VCALENDAR
