BEGIN:VCALENDAR
VERSION:2.0
PRODID:-//ChamberMaster//Event Calendar 2.0//EN
METHOD:PUBLISH
X-PUBLISHED-TTL:P3D
REFRESH-INTERVAL:P3D
CALSCALE:GREGORIAN
BEGIN:VEVENT
DTSTART:20190331T150000Z
DTEND:20190331T200000Z
X-MICROSOFT-CDO-ALLDAYEVENT:FALSE
SUMMARY:Bridal Expo - The Telico Gin
DESCRIPTION:Bridal Expo
X-ALT-DESC;FMTTYPE=text/html:Bridal Expo<br />\n&nbsp\; &nbsp\;&nbsp\;&nbsp\;&nbsp\;&nbsp\;&nbsp\;
LOCATION:The Telico Gin 948 Kirkpatrick Rd Ennis\, TX 75119
UID:e.2608.2885
SEQUENCE:3
DTSTAMP:20260424T101056Z
URL:https://business.ennis-chamber.com/events/details/bridal-expo-the-telico-gin-2885
END:VEVENT

END:VCALENDAR
