BEGIN:VCALENDAR
VERSION:2.0
PRODID:-//ChamberMaster//Event Calendar 2.0//EN
METHOD:PUBLISH
X-PUBLISHED-TTL:P3D
REFRESH-INTERVAL:P3D
CALSCALE:GREGORIAN
BEGIN:VEVENT
DTSTART:20171211T173000Z
DTEND:20171211T190000Z
X-MICROSOFT-CDO-ALLDAYEVENT:FALSE
SUMMARY:Board Meeting
DESCRIPTION:
X-ALT-DESC;FMTTYPE=text/html:
LOCATION:Ennis Chamber of Commerce
UID:e.2608.86
SEQUENCE:3
DTSTAMP:20260425T134603Z
URL:https://business.ennis-chamber.com/events/details/board-meeting-86
END:VEVENT

END:VCALENDAR
