BEGIN:VCALENDAR
VERSION:2.0
PRODID:-//ChamberMaster//Event Calendar 2.0//EN
METHOD:PUBLISH
X-PUBLISHED-TTL:P3D
REFRESH-INTERVAL:P3D
CALSCALE:GREGORIAN
BEGIN:VEVENT
DTSTART:20170612T163000Z
DTEND:20170612T180000Z
X-MICROSOFT-CDO-ALLDAYEVENT:FALSE
SUMMARY:Board Meeting
DESCRIPTION:
X-ALT-DESC;FMTTYPE=text/html:
LOCATION:Ennis Chamber of Commerce
UID:e.2608.83
SEQUENCE:3
DTSTAMP:20260426T001556Z
URL:https://business.ennis-chamber.com/events/details/board-meeting-83
END:VEVENT

END:VCALENDAR
