BEGIN:VCALENDAR
VERSION:2.0
PRODID:-//ChamberMaster//Event Calendar 2.0//EN
METHOD:PUBLISH
X-PUBLISHED-TTL:P3D
REFRESH-INTERVAL:P3D
CALSCALE:GREGORIAN
BEGIN:VEVENT
DTSTART;VALUE=DATE:20190412
DTEND;VALUE=DATE:20190415
TRANSP:TRANSPARENT
X-MICROSOFT-CDO-ALLDAYEVENT:TRUE
SUMMARY:Bluebonnet Trails Festival
DESCRIPTION:Bluebonnet Trails Festival\n\nEnjoy 3 days of Arts and Crafts\, Bluebonnet Souveneirs\, Children's Activities\, Exciting Live Music\, and scenic country rides taking in all the beautiful wildflowers with the Free Bluebonnet Trails Maps.     \n\nFREE ADMISSION
X-ALT-DESC;FMTTYPE=text/html:Bluebonnet Trails Festival<br />\nEnjoy 3 days of Arts and Crafts\, Bluebonnet Souveneirs\, Children&#39\;s Activities\, Exciting Live Music\, and scenic country rides taking in all the beautiful wildflowers with the Free Bluebonnet Trails Maps.&nbsp\;&nbsp\;&nbsp\;&nbsp\;&nbsp\;<br />\nFREE ADMISSION<br />\n&nbsp\;
LOCATION:Address for Google Maps: 101 North Main Street West Ennis\, TX 75119
UID:e.2608.2880
SEQUENCE:3
DTSTAMP:20260424T101225Z
URL:https://business.ennis-chamber.com/events/details/bluebonnet-trails-festival-2880
END:VEVENT

END:VCALENDAR
