BEGIN:VCALENDAR
VERSION:2.0
PRODID:-//ChamberMaster//Event Calendar 2.0//EN
METHOD:PUBLISH
X-PUBLISHED-TTL:P3D
REFRESH-INTERVAL:P3D
CALSCALE:GREGORIAN
BEGIN:VEVENT
DTSTART:20200205T160000Z
DTEND:20200205T170000Z
X-MICROSOFT-CDO-ALLDAYEVENT:FALSE
SUMMARY:Blackland Home Inspections and Blackland Aerial Ribbon Cutting
DESCRIPTION:Ribbon Cutting for Blackland Home Inspections and Blackland Aerial
X-ALT-DESC;FMTTYPE=text/html:Ribbon Cutting for Blackland Home Inspections and Blackland Aerial
LOCATION:Ennis Chamber of Commerce 108 Chamber of Commerce Dr. Ennis\, TX 75119
UID:e.2608.3245
SEQUENCE:3
DTSTAMP:20260423T115748Z
URL:https://business.ennis-chamber.com/events/details/blackland-home-inspections-and-blackland-aerial-ribbon-cutting-3245
END:VEVENT

END:VCALENDAR
