BEGIN:VCALENDAR
VERSION:2.0
PRODID:-//ChamberMaster//Event Calendar 2.0//EN
METHOD:PUBLISH
X-PUBLISHED-TTL:P3D
REFRESH-INTERVAL:P3D
CALSCALE:GREGORIAN
BEGIN:VEVENT
DTSTART:20170626T130000Z
DTEND:20170716T000000Z
X-MICROSOFT-CDO-ALLDAYEVENT:FALSE
SUMMARY:BEAUTY and the BEAST AUDITIONS & PRODUCTION
DESCRIPTION:This year's summer musical production is the fabulous Beauty and the Beast! We will join Belle\, Gaston\, Mrs. Potts\, and of course\, the Beast.  Children entering Kindergarten through grade 12 may participate in this session.\n\n\n\nTuition: $200.00 plus a $50.00 costume fee for a total of $250.00 ($255 PayPal) which may be paid in two installments if writing a check.\n\n\n\nLocation: Fine Arts Center at Waxahachie High School\n\nRegistration will be held the first day of rehearsal\, June 26 beginning at 8:00 am.  Rehearsals will continue through July 14 from 8:00 am 12:00 pm with no rehearsals on July 3rd and 4th.  \n\n\n\nFinal Performances \n\nSaturday\, July 15th at 3:00 pm and 7:00 pm
X-ALT-DESC;FMTTYPE=text/html:<p>This year&rsquo\;s summer musical production is the fabulous Beauty and the Beast! We will join Belle\, Gaston\, Mrs. Potts\, and of course\, the Beast.&nbsp\; Children entering Kindergarten through grade 12 may participate in this session.<br />\n<br />\nTuition: $200.00 plus a $50.00 costume fee for a total of $250.00 ($255 PayPal) which may be paid in two installments if writing a check.<br />\n<br />\nLocation: Fine Arts Center at Waxahachie High School</p>\n\n<p>Registration will be held the first day of rehearsal\, June 26 beginning at 8:00 am.&nbsp\; Rehearsals will continue through July 14 from 8:00 am&mdash\;12:00 pm with no rehearsals on July 3rd and 4th. &nbsp\;<br />\n<br />\nFinal Performances&nbsp\;<br />\nSaturday\, July 15th at 3:00 pm and 7:00 pm</p>\n
LOCATION:Fine Arts Center at Waxahachie High School
UID:e.2608.411
SEQUENCE:3
DTSTAMP:20260426T003045Z
URL:https://business.ennis-chamber.com/events/details/beauty-and-the-beast-auditions-production-411
END:VEVENT

END:VCALENDAR
